BEGIN:VCALENDAR
VERSION:2.0
PRODID:-//LTPOA - ECPv6.15.20//NONSGML v1.0//EN
CALSCALE:GREGORIAN
METHOD:PUBLISH
X-ORIGINAL-URL:https://ltpoa.us
X-WR-CALDESC:Events for LTPOA
REFRESH-INTERVAL;VALUE=DURATION:PT1H
X-Robots-Tag:noindex
X-PUBLISHED-TTL:PT1H
BEGIN:VTIMEZONE
TZID:UTC
BEGIN:STANDARD
TZOFFSETFROM:+0000
TZOFFSETTO:+0000
TZNAME:UTC
DTSTART:20240101T000000
END:STANDARD
END:VTIMEZONE
BEGIN:VEVENT
DTSTART;VALUE=DATE:20250903
DTEND;VALUE=DATE:20250906
DTSTAMP:20260422T011539
CREATED:20250717T164145Z
LAST-MODIFIED:20250717T164145Z
UID:10000031-1756857600-1757116799@ltpoa.us
SUMMARY:SSGT Vehicle Takedown Course
DESCRIPTION:
URL:https://ltpoa.us/event/ssgt-vehicle-takedown-course/
LOCATION:LA
ATTACH;FMTTYPE=image/png:https://ltpoa.us/wp-content/uploads/2025/07/ssgt.png
END:VEVENT
BEGIN:VEVENT
DTSTART;VALUE=DATE:20250908
DTEND;VALUE=DATE:20250913
DTSTAMP:20260422T011539
CREATED:20250620T144837Z
LAST-MODIFIED:20250620T144837Z
UID:10000025-1757289600-1757721599@ltpoa.us
SUMMARY:SSGT Patrol Rifle Instructor Course
DESCRIPTION:40 hour \nHosted by the Ouchita Parish Sheriff’s Office \nSeptember 8-12\, 2025 \nPrice: $800/Officer \nContact: Seth Cox  318-372-8586
URL:https://ltpoa.us/event/ssgt-patrol-rifle-instructor-course/
LOCATION:LA
ATTACH;FMTTYPE=image/webp:https://ltpoa.us/wp-content/uploads/2025/06/Patrol_Rifle_Instructor_Flier-scaled.webp
END:VEVENT
BEGIN:VEVENT
DTSTART;TZID=UTC:20250908T080000
DTEND;TZID=UTC:20250908T170000
DTSTAMP:20260422T011539
CREATED:20250813T154221Z
LAST-MODIFIED:20250813T154513Z
UID:10000034-1757318400-1757350800@ltpoa.us
SUMMARY:RIPP (Hobble) Restraint Certification
DESCRIPTION:RIPP Restraints International Incorporated presents a seminar on \nSudden Custody Death Syndrome\nSponsored by ASCENSION PARISH SHERIFFS’ OFFICE \n9094 S ST LANDRY RD\nGONZALES\, LA 70737 \nSEPTEMBER 8TH\, 2025 – 08:00 to 17:00 \nThe RIPPTM Sudden Custody Death Syndrome (SCDS) Train the Trainers Course teaches you the Who\, What\, Where\, Why and How about SCDS. \nLearn critical information and terminology about cocaine psychosis\, positional asphyxia\, positional restraint asphyxia\, as well as the identifiable symptoms & behavioral patterns that are exhibited by subjects who may be at risk of becoming custody deaths. \nDuring this course\, you will review five case histories\, watch two actual cases\, one of Cocaine Psychosis and one where Methamphetamines are involved. You will learn how to build a defensible platform against litigation in the case of a fatality. \nEach attendee receives a training kit with a SCDS Instructors Manual\, Powerpoint presentation\, videos and restraints that will be used in the hands on portion of this course. Each kit is valued at approximately $265. The cost for this one day 8-hour training course is $495. If at the time of registration\, attendance is paid for by credit card\, it is our company policy to give a 10% discount. \nDownload Form \nFax or email form to (855) 775-2912 or Ripp@RippInternational.com
URL:https://ltpoa.us/event/ripp-hobble-restraint-certification/
LOCATION:Acension Sheriff’s Office\, 9094 S St. Landry Ave\, Gonzales\, 70737\, United States
ATTACH;FMTTYPE=image/jpeg:https://ltpoa.us/wp-content/uploads/2025/08/image-6.jpg
END:VEVENT
END:VCALENDAR