BEGIN:VCALENDAR
VERSION:2.0
PRODID:-//LTPOA - ECPv6.15.20//NONSGML v1.0//EN
CALSCALE:GREGORIAN
METHOD:PUBLISH
X-WR-CALNAME:LTPOA
X-ORIGINAL-URL:https://ltpoa.us
X-WR-CALDESC:Events for LTPOA
REFRESH-INTERVAL;VALUE=DURATION:PT1H
X-Robots-Tag:noindex
X-PUBLISHED-TTL:PT1H
BEGIN:VTIMEZONE
TZID:UTC
BEGIN:STANDARD
TZOFFSETFROM:+0000
TZOFFSETTO:+0000
TZNAME:UTC
DTSTART:20220101T000000
END:STANDARD
END:VTIMEZONE
BEGIN:VEVENT
DTSTART;VALUE=DATE:20231010
DTEND;VALUE=DATE:20231012
DTSTAMP:20260423T100809
CREATED:20230720T150628Z
LAST-MODIFIED:20230720T151434Z
UID:10000005-1696896000-1697068799@ltpoa.us
SUMMARY:Training Academy
DESCRIPTION:Pistol Optics Instructor [Red Dot Sight]\nThis two-day course focuses on developing instructor skills necessary for transitioning personnel from traditional iron sights to the pistol mounted electronic optics – Red Dot Sights. Like all Defense Technology Training Academy firearms courses\, it is designed to enhance the student’s abilities to create\, present and conduct safe and relevant firearms training for personnel in their departments. \nTuition: $545\n 
URL:https://ltpoa.us/event/training-academy/
LOCATION:Sheriff’s Office Classroom\, 999 W. Irene Rd\, Zachary\, LA\, 70791\, United States
ATTACH;FMTTYPE=image/jpeg:https://ltpoa.us/wp-content/uploads/2023/07/357436139_10218175195250075_7163548047156135127_n-1.jpg
END:VEVENT
BEGIN:VEVENT
DTSTART;TZID=UTC:20230915T090000
DTEND;TZID=UTC:20230915T110000
DTSTAMP:20260423T100809
CREATED:20230719T134340Z
LAST-MODIFIED:20230719T142821Z
UID:10000004-1694768400-1694775600@ltpoa.us
SUMMARY:Ballistic Helmet Training
DESCRIPTION:Training Objective: \nBusch PROtective will be hosting a ballistic workshop focusing on the DEA-FBI Ballistic Helmet Protocol V1.0-2019 \n\nBrief classroom ballistics training (Intro to DEA-FBI Helmet Protocol\, differences over existing NIJ Testing\, ballistic materials handling)\nOn-site shooting demo comparing 2 (or more) helmets side by side demonstrating performance in back-face deformation\, edge shots\, bolt shots & blunt trauma. Agencies are encouraged to bring any duty rounds for testing\, as well as any helmets they wish to see tested side by side for comparative purposes.\nLunch & beverages provided on-site after training (all helmets available after shoot for inspection during Q&A) Busch\n\nTo RSVP or any questions please contact Dustin Dinnat with Safariland at dustin.dinnat@safariland.com. Please include approximate attendees from your group to ensure enough seats.
URL:https://ltpoa.us/event/ballistic-helmet-training/
LOCATION:Acension Sheriff’s Office\, 9094 S St. Landry Ave\, Gonzales\, 70737\, United States
ATTACH;FMTTYPE=image/png:https://ltpoa.us/wp-content/uploads/2023/07/BUSCH-Helmet-DEA-FBI-Ballistic-Protocol-Shoot-Ascension-SO-10.15.2023-0900-1100-FLAT-1.png
ORGANIZER;CN="Dustin Dinnat - Safariland":MAILTO:dustin.dinnat@safariland.com
END:VEVENT
BEGIN:VEVENT
DTSTART;TZID=UTC:20230803T080000
DTEND;TZID=UTC:20230803T170000
DTSTAMP:20260423T100809
CREATED:20230718T171342Z
LAST-MODIFIED:20230718T173354Z
UID:10000001-1691049600-1691082000@ltpoa.us
SUMMARY:LTPOA Annual Training Conference
DESCRIPTION:The 2023 Annual Competition\, Vendor Show and Training Conference will be held May 8-12\, 20232 in Pineville\, LA with the RAPIDES PARISH SHERIFF’S OFFICE as the host agency. \nTeam Competition will be on Monday and Tuesday\, May 8-9\, Vendor Show and Banquet on Wednesday May 10th\, training on Thursday and Friday May 11th and 12th. \nTraining Tracks are as follows: \nLeadership class taught by National Tactical Officers Association Instructors \nCQB Tactics taught by NORSE TACTICAL \nAsymetrical Gunfighter Course-pistol/carbine movement\, barricade and vehicle shooting\, taught by TYR Tactical Instructors \nTactical Medical Applications taught by RPSO SWAT Medics \nSniper Clinic\, taught by Terry Cross\, owner Kisatchie Machine Works and 1 MilRight Training \nRed Dot Sight Pistol INSTRUCTOR Course taught by Hunter Freeland of the Modern Samurai Project \n  \n  \nThe host hotel will be the Country Inn and Suites\, 2727 US 165 N (Monroe Hwy)\, Pineville\, LA 71360.  A block of rooms has been reserved for this conference at a rate of $96.00 per night\, single or double occupancy.  Please let the hotel know you are with the LTPOA conference when booking.  This price is good until May 1st\, 2023. Phone number is 318 641 8332 \nWe appreciate everyone’s patience and look forward to seeing you in May.
URL:https://ltpoa.us/event/ltpoa-annual-training-conferencce/
LOCATION:Country Inn and Suites\, 2727 US 165 N (Monroe Hwy)\, Pineville\, LA\, 71360
ATTACH;FMTTYPE=image/jpeg:https://ltpoa.us/wp-content/uploads/2023/07/345333257_1298146937441036_810650789078578806_n.jpg
END:VEVENT
END:VCALENDAR