BEGIN:VCALENDAR
VERSION:2.0
PRODID:-//LTPOA - ECPv6.15.20//NONSGML v1.0//EN
CALSCALE:GREGORIAN
METHOD:PUBLISH
X-WR-CALNAME:LTPOA
X-ORIGINAL-URL:https://ltpoa.us
X-WR-CALDESC:Events for LTPOA
REFRESH-INTERVAL;VALUE=DURATION:PT1H
X-Robots-Tag:noindex
X-PUBLISHED-TTL:PT1H
BEGIN:VTIMEZONE
TZID:UTC
BEGIN:STANDARD
TZOFFSETFROM:+0000
TZOFFSETTO:+0000
TZNAME:UTC
DTSTART:20240101T000000
END:STANDARD
END:VTIMEZONE
BEGIN:VEVENT
DTSTART;VALUE=DATE:20250908
DTEND;VALUE=DATE:20250913
DTSTAMP:20260422T025308
CREATED:20250620T144837Z
LAST-MODIFIED:20250620T144837Z
UID:10000025-1757289600-1757721599@ltpoa.us
SUMMARY:SSGT Patrol Rifle Instructor Course
DESCRIPTION:40 hour \nHosted by the Ouchita Parish Sheriff’s Office \nSeptember 8-12\, 2025 \nPrice: $800/Officer \nContact: Seth Cox  318-372-8586
URL:https://ltpoa.us/event/ssgt-patrol-rifle-instructor-course/
LOCATION:LA
ATTACH;FMTTYPE=image/webp:https://ltpoa.us/wp-content/uploads/2025/06/Patrol_Rifle_Instructor_Flier-scaled.webp
END:VEVENT
END:VCALENDAR