BEGIN:VCALENDAR
VERSION:2.0
PRODID:-//LTPOA - ECPv6.15.20//NONSGML v1.0//EN
CALSCALE:GREGORIAN
METHOD:PUBLISH
X-ORIGINAL-URL:https://ltpoa.us
X-WR-CALDESC:Events for LTPOA
REFRESH-INTERVAL;VALUE=DURATION:PT1H
X-Robots-Tag:noindex
X-PUBLISHED-TTL:PT1H
BEGIN:VTIMEZONE
TZID:UTC
BEGIN:STANDARD
TZOFFSETFROM:+0000
TZOFFSETTO:+0000
TZNAME:UTC
DTSTART:20240101T000000
END:STANDARD
END:VTIMEZONE
BEGIN:VEVENT
DTSTART;VALUE=DATE:20250421
DTEND;VALUE=DATE:20250426
DTSTAMP:20260422T104426
CREATED:20250407T131517Z
LAST-MODIFIED:20250407T131626Z
UID:10000024-1745193600-1745625599@ltpoa.us
SUMMARY:Narcotic Search Warrant Planning & Execution II
DESCRIPTION:Course Information\nLength: 5 Days (40 Hours)\nRegistration: 0730\nClass Start Time: 0800 \nPREREQUISITES:\nStudent is required to have attended the Narcotic Search Warrant Planning & Execution I course before taking this Level 2 course. \nCourse Description:\nThis course consists of Warrant planning\, First aid\, buddy aid\, use of Tactical shields\, and distraction devices\, vehicle assaults\, live fire exercises\, and force-on-force scenarios. This course builds on the skills learned in the Search Warrant Planning & Execution I class and increases the level of difficulty as well as adds new dimensions in training scenarios\, environments\, critical thinking and reactionary skills. \nCourse Objectives:\nMission/Operation Orders & Intelligence exercises\nTeam rehearsals and skill assessments\nMultiple/Simultaneous Entries\, Link Points\, Alternate Options\nAbort and Bunker\, Officer Down Rescue\nOpen Air Operations\nBuy Bust Operations\nLow Light Operations\nVehicle assaults\nElevated entries/stairways \nNOTICE: NO LIVE WEAPONS OR AMMO ARE REQUIRED FOR THIS COURSE. YOU WILL BE ISSUED SIMMUNITION GUNS AND AMMO. \nStudent Equipment Requirements: \n\nEye protection (wrap-around shooting glasses or goggles)\nEar protection (plugs or muffs)\nBody armor (concealable with outer carrier or tactical)\nGloves (preferably tactical)\nBDU’s or tactical clothing that allows for free movement\nLong sleeve blouse or shirt\nTactical footwear (boots preferred)\nHydration\nWeather related clothing/protection\nFlashlights (weapon mounted + hand held preferred)\nExtra batteries for all equipment that require them\n\nMEALS & LODGING **NOT PROVIDED** \nSEATS ARE AVAILABLE!!! \nRegional Counterdrug Training Academy
URL:https://ltpoa.us/event/narcotic-search-warrant-planning-execution-ii/
LOCATION:Bossier Parish Sheriff’s Training Facility\, 2975 Old Plain Dealing Rd\, Plain Dealing\, LA\, 71064
ATTACH;FMTTYPE=image/jpeg:https://ltpoa.us/wp-content/uploads/2025/04/unnamed-14.jpg
END:VEVENT
END:VCALENDAR