BEGIN:VCALENDAR
VERSION:2.0
PRODID:-//LTPOA - ECPv6.15.20//NONSGML v1.0//EN
CALSCALE:GREGORIAN
METHOD:PUBLISH
X-ORIGINAL-URL:https://ltpoa.us
X-WR-CALDESC:Events for LTPOA
REFRESH-INTERVAL;VALUE=DURATION:PT1H
X-Robots-Tag:noindex
X-PUBLISHED-TTL:PT1H
BEGIN:VTIMEZONE
TZID:UTC
BEGIN:STANDARD
TZOFFSETFROM:+0000
TZOFFSETTO:+0000
TZNAME:UTC
DTSTART:20240101T000000
END:STANDARD
END:VTIMEZONE
BEGIN:VEVENT
DTSTART;TZID=UTC:20250130T090000
DTEND;TZID=UTC:20250130T160000
DTSTAMP:20260422T135702
CREATED:20241217T140831Z
LAST-MODIFIED:20241217T141111Z
UID:10000016-1738227600-1738252800@ltpoa.us
SUMMARY:Body Language for Law Enforcement
DESCRIPTION:Attend the ultimate course in understanding and analyzing body language. In this comprehensive training led by instructor Sean Grogan\, you will gain invaluable insights into the subtle movements and non-verbal cues you may miss when speaking with people. The course dispels body language myths and provides an in-depth analysis of non-verbal behavior. The skills you will learn will enhance your ability to communicate with the public and effectively interview. \nThroughout the course\, Sean Grogan dives deep into the world of nonverbal behavior. You will learn detailed movements within 4 regions of the body and non-verbal vocal changes that often manifest during interviews. You will be presented with scientific research related to facial expressions and other non-verbal communication. By acquiring this knowledge\, you will no longer have to rely solely on vague “gut feelings” but instead possess concrete observational skills you can articulate to yourself and others. \nSean Grogan is a former special investigation detective\, canine handler\, and gang investigator. Grogan received extensive training in Europe on non-verbal communication\, holds a trainer’s certification from the Body Language Institute\, and worked as a mentor for Joe Navarro’s\nBody Language Academy. He is also the esteemed author of the book Beware the Body. \n\nArticulate Non-verbal Behaviors\nUnderstand Body Language Myths\nRecognize Types of Body Language Movements\nIdentify Non-verbal Vocal Changes\nUnderstand Facial Expression Research\nDevelop knowledge of the concepts of lsopraxism & Proxemics\nLearn how to use Non-verbal Communication in Interviews\n\nHosted by the Lafayette Police Department\n3rd Floor Training Room\n900 E University Ave.\nLafayette\, LA 70502 \nRegister at:\nhttps://onefacetraining.com
URL:https://ltpoa.us/event/body-language-for-law-enforcement/
LOCATION:Lafayette Police Department\, 900 E University Ave\, Lafayette\, LA\, 70503\, United States
ATTACH;FMTTYPE=image/webp:https://ltpoa.us/wp-content/uploads/2024/12/qtq_95.webp
END:VEVENT
END:VCALENDAR