BEGIN:VCALENDAR
VERSION:2.0
PRODID:-//LTPOA - ECPv6.15.20//NONSGML v1.0//EN
CALSCALE:GREGORIAN
METHOD:PUBLISH
X-WR-CALNAME:LTPOA
X-ORIGINAL-URL:https://ltpoa.us
X-WR-CALDESC:Events for LTPOA
REFRESH-INTERVAL;VALUE=DURATION:PT1H
X-Robots-Tag:noindex
X-PUBLISHED-TTL:PT1H
BEGIN:VTIMEZONE
TZID:UTC
BEGIN:STANDARD
TZOFFSETFROM:+0000
TZOFFSETTO:+0000
TZNAME:UTC
DTSTART:20230101T000000
END:STANDARD
END:VTIMEZONE
BEGIN:VEVENT
DTSTART;TZID=UTC:20240422T073000
DTEND;TZID=UTC:20240426T163000
DTSTAMP:20260423T065229
CREATED:20240312T140338Z
LAST-MODIFIED:20240312T144032Z
UID:10000006-1713771000-1714149000@ltpoa.us
SUMMARY:Bossier Parish Sheriff’s Training Academy
DESCRIPTION:BASIC SWAT TRAINING COURSE\nApril 22 – April 26\, 2024\nThe Bossier Parish Training Academy is pleased to announce a Basic SWAT Course will be offered from April 22\, 2024\, to April 26\, 2024\, at our training facility. The class will be limited to 20 officers. Attached you will find the registration form\, items to bring\, and a dorm reservation form. Please complete all these forms and return them to our office for processing. This class is offered on a first come basis as is the dorm rooms that we have. There is no charge for the Basic SWAT Course but there is a $25.00 per night charge for the dorm room per officer. There are twin beds in each room\, a compact refrigerator in each room\, a full refrigerator and microwave with a coffee pot in the kitchen\, and Wi-Fi for the facility. There are restaurants near the dorms and also a truck stop that is open 24 hours a day with food service. Please return your registration as soon as possible so that your agency will not miss out on this excellent training opportunity. Once you have completed all the forms please email them to dbrossett@bossiersheriff.com. Your contact will be Dana Brossett @ 318-965-3525 should you have any questions. We look forward to training your personnel and making it a memorable training experience. \n-Captain Sarah Rhodes Academy Director \nForms to be completed and emailed to dbrossett@bossiersheriff.com \n\n\n\nBPSTA BASIC SWAT COURSE \nThis course will be a 50+ hour course designed for tactical\, narcotics\, and patrol officers who need basic swat or raid training.\nThis course will cover: Required Elements of SWAT intervention Slow and Deliberate Clearing Techniques Dynamic Raid Techniques Methods of Forced Entry Team Structure Basic Individual Movement Basic Team Movement Vehicle Assaults Professional Requirement: Less than Lethal Tactics Firearms Training Use of Chemical Agents CS Gas Exposure and Proper Gas Mask Usage Distraction Device Certification Raid Planning Ballistic Shield Introduction Low or No Light Training\nProfessional Requirement:\nStudent must be proficient with handguns and long guns\, i.e. rifles\, sub-guns and/or shotguns.\nAmmunition Requirements:\n500 rounds handgun\, 500 rounds long gun (rifle\, submachine gun\, shotgun or AR type). (If bringing a shotgun\, we recommend bringing 400 rounds birdshot\, 50 rounds slugs and 50 rounds buckshot). Minimum of 3 magazines for each handgun and rifle.\n\n\n\n\n\nEquipment List:Tactical equipment used by your department (i.e.\, body armor\, helmet\, gloves\, gas mask\, shield\, etc.)\, firearms and related equipment\, rain gear\, ear and eye protection\, and flashlights\, extra batteries for lights and optics. Sling (rifle or submachine gun)\, mag pouches\, weapon mounted light\nAdditional Equipment\, if available: Distraction Devices\, Smoke Grenades\, or CS Grenades\nDress: Agency SWAT uniform or appropriate tactical attire.
URL:https://ltpoa.us/event/bossier-parish-sheriffs-training-academy/
LOCATION:Bossier Parish Sheriff’s Training Facility\, 2975 Old Plain Dealing Rd\, Plain Dealing\, LA\, 71064
ATTACH;FMTTYPE=application/pdf:https://ltpoa.us/wp-content/uploads/2024/03/BASIC-SWAT-ANNOUNCEMENT-2024.pdf
END:VEVENT
END:VCALENDAR